BEGIN:VCALENDAR
VERSION:2.0
PRODID:-//Tukios.com/
BEGIN:VEVENT
UID:5601052e-7b6c-442e-845d-a0ff57cfce7a@www.gracememorialchapel.net
DTSTAMP:20260423T192724Z
DTSTART:20260430T150000Z
DTEND:20260430T190000Z
SUMMARY:Funeral Service
DESCRIPTION:
URL:https://www.gracememorialchapel.net/obituaries/joseph-roland
LOCATION:Newkirk United Methodist Church     
GEO:0;0
END:VEVENT
END:VCALENDAR